BEGIN:VCALENDAR
VERSION:2.0
PRODID:-//wp-events-plugin.com//7.2.3.1//EN
TZID:America/New_York
X-WR-TIMEZONE:America/New_York
BEGIN:VEVENT
UID:2958@mohawkvalley.today
DTSTART;TZID=America/New_York:20260501T101500
DTEND;TZID=America/New_York:20260501T110000
DTSTAMP:20260420T152617Z
URL:https://mohawkvalley.today/events/spring-storytime-at-the-old-forge-li
 brary-2026-04-24-2026-05-01/
SUMMARY:Spring Storytime at the Old Forge Library
DESCRIPTION:Five Spring Story Time sessions will be held on Fridays from Ap
 ril 24 through May 22 from 10:15–11:00 am\, at the Old Forge Library\, l
 ocated at 220 Crosby Boulevard.
ATTACH;FMTTYPE=image/jpeg:https://mohawkvalley.today/new/wp-content/upload
 s/2026/04/IMG_1839.jpeg
CATEGORIES:Herkimer County,Old Forge NY
LOCATION:Old Forge Library\, 220 Crosby Blvd\, Old Forge\, New York\, 13420
 \, United States
GEO:43.711362;-74.973462
X-APPLE-STRUCTURED-LOCATION;VALUE=URI;X-ADDRESS=220 Crosby Blvd\, Old Forge
 \, New York\, 13420\, United States;X-APPLE-RADIUS=100;X-TITLE=Old Forge L
 ibrary:geo:43.711362,-74.973462
END:VEVENT
BEGIN:VTIMEZONE
TZID:America/New_York
X-LIC-LOCATION:America/New_York
BEGIN:DAYLIGHT
DTSTART:20260308T030000
TZOFFSETFROM:-0500
TZOFFSETTO:-0400
TZNAME:EDT
END:DAYLIGHT
END:VTIMEZONE
END:VCALENDAR