BEGIN:VCALENDAR
VERSION:2.0
PRODID:-//wp-events-plugin.com//7.2.3.1//EN
TZID:America/New_York
X-WR-TIMEZONE:America/New_York
BEGIN:VEVENT
UID:2828@mohawkvalley.today
DTSTART;TZID=America/New_York:20260704T110000
DTEND;TZID=America/New_York:20260704T220000
DTSTAMP:20260330T142920Z
URL:https://mohawkvalley.today/events/springfield-4th-of-july-parade-celeb
 ration/
SUMMARY:Springfield 4th of July Parade & Celebration
DESCRIPTION:The festivities begin at 11:00am with Springfield’s 112th ann
 ual 4th of July Parade themed “AMERICA 250”.
ATTACH;FMTTYPE=image/jpeg:https://mohawkvalley.today/new/wp-content/upload
 s/2026/03/IMG_1290.jpeg
CATEGORIES:Otsego County,Springfield Center NY
LOCATION:Springfield Community Center\, 129 Co Rd 29A\, Springfield Center\
 , New York \, 13468\, United States
X-APPLE-STRUCTURED-LOCATION;VALUE=URI;X-ADDRESS=129 Co Rd 29A\, Springfield
  Center\, New York \, 13468\, United States;X-APPLE-RADIUS=100;X-TITLE=Spr
 ingfield Community Center:geo:0,0
END:VEVENT
BEGIN:VTIMEZONE
TZID:America/New_York
X-LIC-LOCATION:America/New_York
BEGIN:DAYLIGHT
DTSTART:20260308T030000
TZOFFSETFROM:-0500
TZOFFSETTO:-0400
TZNAME:EDT
END:DAYLIGHT
END:VTIMEZONE
END:VCALENDAR