BEGIN:VCALENDAR
VERSION:2.0
PRODID:-//wp-events-plugin.com//7.2.3.1//EN
TZID:America/New_York
X-WR-TIMEZONE:America/New_York
BEGIN:VEVENT
UID:2835@mohawkvalley.today
DTSTART;TZID=America/New_York:20260429T173000
DTEND;TZID=America/New_York:20260429T183000
DTSTAMP:20260401T140955Z
URL:https://mohawkvalley.today/events/step-into-child-care-at-mvcc/
SUMMARY:Step Into Child Care at MVCC
DESCRIPTION:Do you love working with children? Join us at MVCC for a free w
 orkshop to explore staring a career as a child care provider. 
ATTACH;FMTTYPE=image/jpeg:https://mohawkvalley.today/new/wp-content/upload
 s/2026/04/IMG_1389.png
CATEGORIES:Oneida County,Utica NY
LOCATION:Mohawk Valley Community College\, 1101 Sherman Drive\, Utica\, New
  York\, 13501\, United States
X-APPLE-STRUCTURED-LOCATION;VALUE=URI;X-ADDRESS=1101 Sherman Drive\, Utica\
 , New York\, 13501\, United States;X-APPLE-RADIUS=100;X-TITLE=Mohawk Valle
 y Community College:geo:0,0
END:VEVENT
BEGIN:VTIMEZONE
TZID:America/New_York
X-LIC-LOCATION:America/New_York
BEGIN:DAYLIGHT
DTSTART:20260308T030000
TZOFFSETFROM:-0500
TZOFFSETTO:-0400
TZNAME:EDT
END:DAYLIGHT
END:VTIMEZONE
END:VCALENDAR