BEGIN:VCALENDAR
VERSION:2.0
PRODID:-//wp-events-plugin.com//7.2.3.1//EN
TZID:America/New_York
X-WR-TIMEZONE:America/New_York
BEGIN:VEVENT
UID:905@mohawkvalley.today
DTSTART;TZID=America/New_York:20250805T100000
DTEND;TZID=America/New_York:20250810T170000
DTSTAMP:20250701T234032Z
URL:https://mohawkvalley.today/events/summer-lego-building-extravaganza/
SUMMARY:Summer Lego Building Extravaganza
DESCRIPTION:Visit the classroom of the Arkell Museum and Canajoharie Librar
 y between August 5th - 10th for an all day\, drop-in\, LEGO Building conte
 st.
ATTACH;FMTTYPE=image/jpeg:https://mohawkvalley.today/new/wp-content/upload
 s/2025/07/IMG_7814.jpeg
CATEGORIES:Canajoharie NY,Montgomery County
LOCATION:Arkell Museum and Canajoharie Library\, 2 Erie Boulevard\, Canajoh
 arie\, New York\, 13317\, United States
X-APPLE-STRUCTURED-LOCATION;VALUE=URI;X-ADDRESS=2 Erie Boulevard\, Canajoha
 rie\, New York\, 13317\, United States;X-APPLE-RADIUS=100;X-TITLE=Arkell M
 useum and Canajoharie Library:geo:0,0
END:VEVENT
BEGIN:VTIMEZONE
TZID:America/New_York
X-LIC-LOCATION:America/New_York
BEGIN:DAYLIGHT
DTSTART:20250309T030000
TZOFFSETFROM:-0500
TZOFFSETTO:-0400
TZNAME:EDT
END:DAYLIGHT
END:VTIMEZONE
END:VCALENDAR