BEGIN:VCALENDAR
VERSION:2.0
PRODID:-//wp-events-plugin.com//7.2.3.1//EN
TZID:America/New_York
X-WR-TIMEZONE:America/New_York
BEGIN:VEVENT
UID:2400@mohawkvalley.today
DTSTART;TZID=America/New_York:20260308T083000
DTEND;TZID=America/New_York:20260308T140000
DTSTAMP:20260217T212510Z
URL:https://mohawkvalley.today/events/sweet-traditions-return-sugaring-off
 -sundays-at-fenimore-farm-2026-03-01-2026-03-08/
SUMMARY:Sweet Traditions Return: Sugaring Off Sundays at Fenimore Farm
DESCRIPTION:Every Sunday in March\, families and visitors of all ages can e
 njoy a day of hands-on activities\, delicious food\, and immersive experie
 nces.
ATTACH;FMTTYPE=image/jpeg:https://mohawkvalley.today/new/wp-content/upload
 s/2026/02/IMG_0785.jpeg
CATEGORIES:Cooperstown NY,Otsego County
LOCATION:Fenimore Farm & Country Village\, 5775 NY-80\, Cooperstown\, New Y
 ork\, 13326\, United States
X-APPLE-STRUCTURED-LOCATION;VALUE=URI;X-ADDRESS=5775 NY-80\, Cooperstown\, 
 New York\, 13326\, United States;X-APPLE-RADIUS=100;X-TITLE=Fenimore Farm 
 & Country Village:geo:0,0
END:VEVENT
BEGIN:VTIMEZONE
TZID:America/New_York
X-LIC-LOCATION:America/New_York
BEGIN:DAYLIGHT
DTSTART:20260308T030000
TZOFFSETFROM:-0500
TZOFFSETTO:-0400
TZNAME:EDT
END:DAYLIGHT
END:VTIMEZONE
END:VCALENDAR