BEGIN:VCALENDAR
VERSION:2.0
PRODID:-//wp-events-plugin.com//7.2.3.1//EN
TZID:America/New_York
X-WR-TIMEZONE:America/New_York
BEGIN:VEVENT
UID:1883@mohawkvalley.today
DTSTART;TZID=America/New_York:20251122T190000
DTEND;TZID=America/New_York:20251122T190000
DTSTAMP:20251121T111758Z
URL:https://mohawkvalley.today/events/the-minivans-at-rock-valley-brewing-
 co/
SUMMARY:The Minivans at Rock Valley Brewing Co
DESCRIPTION:If you like Stevie Wonder\, Sublime\, Bob Marley\, Grateful Dea
 d\, The Police\, Led Zeppelin\, Prince\, Amy Winehouse and more\, THIS IS 
 THE SHOW FOR YOU!
ATTACH;FMTTYPE=image/jpeg:https://mohawkvalley.today/new/wp-content/upload
 s/2025/11/IMG_0132.jpeg
CATEGORIES:Herkimer County,Little Falls NY
LOCATION:Rock City Brewing Co.\, 56 W. Mill Street\, Little Falls\, New Yor
 k\, 13365\, United States
X-APPLE-STRUCTURED-LOCATION;VALUE=URI;X-ADDRESS=56 W. Mill Street\, Little 
 Falls\, New York\, 13365\, United States;X-APPLE-RADIUS=100;X-TITLE=Rock C
 ity Brewing Co.:geo:0,0
END:VEVENT
BEGIN:VTIMEZONE
TZID:America/New_York
X-LIC-LOCATION:America/New_York
BEGIN:STANDARD
DTSTART:20251102T010000
TZOFFSETFROM:-0400
TZOFFSETTO:-0500
TZNAME:EST
END:STANDARD
END:VTIMEZONE
END:VCALENDAR