BEGIN:VCALENDAR
VERSION:2.0
PRODID:-//wp-events-plugin.com//7.2.3.1//EN
TZID:America/New_York
X-WR-TIMEZONE:America/New_York
BEGIN:VEVENT
UID:1901@mohawkvalley.today
DTSTART;TZID=America/New_York:20251204T180000
DTEND;TZID=America/New_York:20251204T190000
DTSTAMP:20251202T130856Z
URL:https://mohawkvalley.today/events/the-open-eye-theater-its-a-wonderful
 -lifea-live-radio-play-2025-12-04/
SUMMARY:The Open Eye Theater: It’s A Wonderful Life:A Live Radio Play
DESCRIPTION:The Open Eye Theater presents: It’s A Wonderful Life:A Live R
 adio Play\, adapted by Joe Landry and based on the story The Greatest Gift
  by Phillip Van Doren Stern.
ATTACH;FMTTYPE=image/jpeg:https://mohawkvalley.today/new/wp-content/upload
 s/2025/12/IMG_0229.png
CATEGORIES:Outside Mohawk Valley
LOCATION:The Open Eye Theater\, 960 Main Street\, Margaretville\, New York\
 , 12455\, United States
X-APPLE-STRUCTURED-LOCATION;VALUE=URI;X-ADDRESS=960 Main Street\, Margaretv
 ille\, New York\, 12455\, United States;X-APPLE-RADIUS=100;X-TITLE=The Ope
 n Eye Theater:geo:0,0
END:VEVENT
BEGIN:VTIMEZONE
TZID:America/New_York
X-LIC-LOCATION:America/New_York
BEGIN:STANDARD
DTSTART:20251102T010000
TZOFFSETFROM:-0400
TZOFFSETTO:-0500
TZNAME:EST
END:STANDARD
END:VTIMEZONE
END:VCALENDAR