BEGIN:VCALENDAR
VERSION:2.0
PRODID:-//wp-events-plugin.com//7.2.3.1//EN
TZID:America/New_York
X-WR-TIMEZONE:America/New_York
BEGIN:VEVENT
UID:1894@mohawkvalley.today
DTSTART;TZID=America/New_York:20251125T080000
DTEND;TZID=America/New_York:20251210T190000
DTSTAMP:20251126T141925Z
URL:https://mohawkvalley.today/events/toys-for-tots-donation-site/
SUMMARY:Toys For Tots Donation Site
DESCRIPTION:We are collecting Toys for our Local Toys for Tots. Toys can be
  dropped off at the front desk.\nDonations will be collected through 12/10
 /25.
ATTACH;FMTTYPE=image/jpeg:https://mohawkvalley.today/new/wp-content/upload
 s/2025/11/IMG_0179.jpeg
CATEGORIES:Herkimer County,Little Falls NY
LOCATION:Alpine Rehab & Nursing Center\, 755 East Monroe St. \, Little Fall
 s\, New York\, 13365\, United States
X-APPLE-STRUCTURED-LOCATION;VALUE=URI;X-ADDRESS=755 East Monroe St. \, Litt
 le Falls\, New York\, 13365\, United States;X-APPLE-RADIUS=100;X-TITLE=Alp
 ine Rehab & Nursing Center:geo:0,0
END:VEVENT
BEGIN:VTIMEZONE
TZID:America/New_York
X-LIC-LOCATION:America/New_York
BEGIN:STANDARD
DTSTART:20251102T010000
TZOFFSETFROM:-0400
TZOFFSETTO:-0500
TZNAME:EST
END:STANDARD
END:VTIMEZONE
END:VCALENDAR