BEGIN:VCALENDAR
VERSION:2.0
PRODID:-//wp-events-plugin.com//7.2.3.1//EN
TZID:America/New_York
X-WR-TIMEZONE:America/New_York
BEGIN:VEVENT
UID:1882@mohawkvalley.today
DTSTART;TZID=America/New_York:20251121T170000
DTEND;TZID=America/New_York:20251121T170000
DTSTAMP:20251121T105047Z
URL:https://mohawkvalley.today/events/turkey-shoot-dart-tourney/
SUMMARY:Turkey Shoot Dart Tourney
DESCRIPTION:If you’re looking for a fun time\, then head over to Richfiel
 d Bowl-a-rama for this year’s annual Turkey Shoot Dart Tournament. 
ATTACH;FMTTYPE=image/jpeg:https://mohawkvalley.today/new/wp-content/upload
 s/2025/11/IMG_0131.jpeg
CATEGORIES:Otsego County,Richfield Springs
LOCATION:Richfield Bowl-A-Rama\, 20 Bronner Street\, Richfield Springs\, Ne
 w York\, United States
X-APPLE-STRUCTURED-LOCATION;VALUE=URI;X-ADDRESS=20 Bronner Street\, Richfie
 ld Springs\, New York\, United States;X-APPLE-RADIUS=100;X-TITLE=Richfield
  Bowl-A-Rama:geo:0,0
END:VEVENT
BEGIN:VTIMEZONE
TZID:America/New_York
X-LIC-LOCATION:America/New_York
BEGIN:STANDARD
DTSTART:20251102T010000
TZOFFSETFROM:-0400
TZOFFSETTO:-0500
TZNAME:EST
END:STANDARD
END:VTIMEZONE
END:VCALENDAR