BEGIN:VCALENDAR
VERSION:2.0
PRODID:-//wp-events-plugin.com//7.2.3.1//EN
TZID:America/New_York
X-WR-TIMEZONE:America/New_York
BEGIN:VEVENT
UID:2406@mohawkvalley.today
DTSTART;TZID=America/New_York:20260226T190000
DTEND;TZID=America/New_York:20260226T190000
DTSTAMP:20260220T115927Z
URL:https://mohawkvalley.today/events/u-s-navy-band-in-concert/
SUMMARY:U.S. Navy Band in Concert
DESCRIPTION:The U.S. Navy Band will be in concert beginning at 7:00 p.m. on
  Thursday\, February 26\, 2026 at the Capital Theatre \, Rome\, NY.
ATTACH;FMTTYPE=image/jpeg:https://mohawkvalley.today/new/wp-content/upload
 s/2026/02/IMG_4615.jpeg
CATEGORIES:Concert,Oneida County,Rome NY
LOCATION:Capitol Theatre\, 220 West Dominck Street\, Rome\, NY\, 13340\, Un
 ited States
X-APPLE-STRUCTURED-LOCATION;VALUE=URI;X-ADDRESS=220 West Dominck Street\, R
 ome\, NY\, 13340\, United States;X-APPLE-RADIUS=100;X-TITLE=Capitol Theatr
 e:geo:0,0
END:VEVENT
BEGIN:VTIMEZONE
TZID:America/New_York
X-LIC-LOCATION:America/New_York
BEGIN:STANDARD
DTSTART:20251102T010000
TZOFFSETFROM:-0400
TZOFFSETTO:-0500
TZNAME:EST
END:STANDARD
END:VTIMEZONE
END:VCALENDAR