BEGIN:VCALENDAR
VERSION:2.0
PRODID:-//wp-events-plugin.com//7.2.3.1//EN
TZID:America/New_York
X-WR-TIMEZONE:America/New_York
BEGIN:VEVENT
UID:1229@mohawkvalley.today
DTSTART;TZID=America/New_York:20250719T150000
DTEND;TZID=America/New_York:20250719T180000
DTSTAMP:20250722T101015Z
URL:https://mohawkvalley.today/events/veggie-van-herkimer-community-garden
 -2025-07-19/
SUMMARY:Veggie Van - Herkimer Community Garden
DESCRIPTION:3 – 6 pm: Herkimer Community Garden\, Tony Bagetta Mini Park\
 , 120-122 W Smith St\nThe mobile market season is from June 30 to October 
 20\, 2025 and features West End Farm of Herkimer.  Accepted forms of paym
 ent include cash\, credit\,  EBT/SNAP\, Farmers Market Nutrition Program 
 (FMNP) checks and FreshConnect checks.\n\nHere is the full schedule to see
  when the Veggie Van will be open near you:\n\nMondays:\n\n3 – 6 pm: Bur
 ke Park\, E Lansing / N Ann St\, Little Falls\n\nJune 23\, July 7\, 21\, A
 ugust 4\, 18\, September 1\, 15\, 29\, &amp\; October 13\n\n3 – 6 pm: Fr
 ankfort Library\, 123 S Frankfort St\, Frankfort\n\nJune 30\, July 14\, 28
 \, August 11\, 25\, September 8\, 22\, October 6 &amp\; 20\n\nTuesdays:\n\
 n10 am – 1 pm: London Towers\, 100 W Main St\, Ilion\, next to Gas Way\n
 \nJuly 1\, 15\, 29\, August 12\, 26\, September 9\, 23\, October 7\, &amp\
 ; 21\n\n10 am – 1 pm: Nathan Galinsky Apartments\, 105 Protection Ave\, 
 Herkimer\n\nJuly 8\, 22\, August 5\, 19\, September 2\, 16\, 30\, &amp\; O
 ctober 14\n\nWednesdays: \n\n5 – 8 pm / dusk: Fat Cats\, 200 King St\, 
 Herkimer\n\nJune 25\, July 9\, 23\, August 13\, 27\, September 10\, 24\, O
 ctober 8\, &amp\; 22\n\nThursdays:\n\n3 – 6 pm: Suzy Q’s\, 105 W Main 
 St\, Mohawk\n\nJune 26\, July 10\, 24\, August 7\, 21\, September 4\, 18\,
  &amp\; October 2\n\nFridays:\n\n3 – 6pm: West Winfield Village Green\, 
 Corner of North Street and Route 20\n\nStarts June 27 – October 17\n\nSa
 turdays:\n\n3 – 6 pm: Herkimer Community Garden\, Tony Bagetta Mini Park
 \, 120-122 W Smith St\n\nJuly 19\, August 16\, September 20\, &amp\; Octob
 er 25.\n\nFor questions and more information about the Veggie Van please c
 ontact Herkimer CCE at (315)866-7920.
ATTACH;FMTTYPE=image/jpeg:https://mohawkvalley.today/new/wp-content/upload
 s/2025/07/IMG_8045.jpeg
CATEGORIES:Herkimer County,Herkimer NY
LOCATION:Tony Bagetta Mini Park\, 120-122 W Smith St\, Herkimer\, New York\
 , 13350\, United States
X-APPLE-STRUCTURED-LOCATION;VALUE=URI;X-ADDRESS=120-122 W Smith St\, Herkim
 er\, New York\, 13350\, United States;X-APPLE-RADIUS=100;X-TITLE=Tony Bage
 tta Mini Park:geo:0,0
END:VEVENT
BEGIN:VTIMEZONE
TZID:America/New_York
X-LIC-LOCATION:America/New_York
BEGIN:DAYLIGHT
DTSTART:20250309T030000
TZOFFSETFROM:-0500
TZOFFSETTO:-0400
TZNAME:EDT
END:DAYLIGHT
END:VTIMEZONE
END:VCALENDAR