BEGIN:VCALENDAR
VERSION:2.0
PRODID:-//wp-events-plugin.com//7.2.3.1//EN
TZID:America/New_York
X-WR-TIMEZONE:America/New_York
BEGIN:VEVENT
UID:2834@mohawkvalley.today
DTSTART;TZID=America/New_York:20260409T190000
DTEND;TZID=America/New_York:20260409T200000
DTSTAMP:20260401T135944Z
URL:https://mohawkvalley.today/events/whos-ready-for-silvopasturing/
SUMMARY:Who’s Ready for Silvopasturing?
DESCRIPTION:This hour long webinar is designed to introduce participants to
  the unique benefits and attributes of implementing silovpasturing on thei
 r grazing property.
ATTACH;FMTTYPE=image/jpeg:https://mohawkvalley.today/new/wp-content/upload
 s/2026/04/IMG_1388.jpeg
CATEGORIES:Oneida County
END:VEVENT
BEGIN:VTIMEZONE
TZID:America/New_York
X-LIC-LOCATION:America/New_York
BEGIN:DAYLIGHT
DTSTART:20260308T030000
TZOFFSETFROM:-0500
TZOFFSETTO:-0400
TZNAME:EDT
END:DAYLIGHT
END:VTIMEZONE
END:VCALENDAR