BEGIN:VCALENDAR
VERSION:2.0
PRODID:-//wp-events-plugin.com//7.2.3.1//EN
TZID:America/New_York
X-WR-TIMEZONE:America/New_York
BEGIN:VEVENT
UID:1863@mohawkvalley.today
DTSTART;TZID=America/New_York:20251206T150000
DTEND;TZID=America/New_York:20251206T150000
DTSTAMP:20251117T190420Z
URL:https://mohawkvalley.today/events/wintersong-music-woven-in-frost-and-
 fire/
SUMMARY:Wintersong: Music Woven in Frost and Fire
DESCRIPTION:Join us on Saturday\, December 6th at 3:00 PM at Christ Church 
 Cooperstown when winter afternoon’s pale light gives way to melody and g
 reat music rises to meet the season.
ATTACH;FMTTYPE=image/jpeg:https://mohawkvalley.today/new/wp-content/upload
 s/2025/11/IMG_0063.jpeg
LOCATION:Christ Church Parish Hall\, 69 Fair Street\, Cooperstown\, New Yor
 k\, United States
X-APPLE-STRUCTURED-LOCATION;VALUE=URI;X-ADDRESS=69 Fair Street\, Cooperstow
 n\, New York\, United States;X-APPLE-RADIUS=100;X-TITLE=Christ Church Pari
 sh Hall:geo:0,0
END:VEVENT
BEGIN:VTIMEZONE
TZID:America/New_York
X-LIC-LOCATION:America/New_York
BEGIN:STANDARD
DTSTART:20251102T010000
TZOFFSETFROM:-0400
TZOFFSETTO:-0500
TZNAME:EST
END:STANDARD
END:VTIMEZONE
END:VCALENDAR