BEGIN:VCALENDAR
VERSION:2.0
PRODID:-//wp-events-plugin.com//7.2.3.1//EN
TZID:America/New_York
X-WR-TIMEZONE:America/New_York
BEGIN:VEVENT
UID:1735@mohawkvalley.today
DTSTART;TZID=America/New_York:20251021T190000
DTEND;TZID=America/New_York:20251021T190000
DTSTAMP:20251009T153112Z
URL:https://mohawkvalley.today/events/women-of-the-saratoga-campaign-is-th
 e-topic-for-nys-history-month-2/
SUMMARY:Upstate Women Legislators of NYS is the Topic for NYS History Month
DESCRIPTION:Schoharie Crossing State Historic Site will host Dr. Kozakiewic
 z to discuss “Upstate Women Legislators of NYS: a History and Legacy” 
 as part of the 10th Annual NYS History Month “Tuesday Talk” series.\nT
 he program starts at 7pm inside the Enders House\, adjacent to the Visitor
  Center and Museum\, 129 Schoharie Street\, on Tuesday\, October 21st.\n\n
 Dr. Kozakiewicz who will take to the podium on to discuss “Upstate Women
  Legislators of NYS: a History and Legacy” which is a look at the lives 
 and contributions of key women leaders who hailed from upstate regions inc
 luding the Mohawk Valley. A focus will be on the era between 1919 and the 
 late 20th century. Kozakiewicz is a Lecturer in the Department of History 
 and a Liaison for UAlbany in the High School\, University at Albany SUNY.\
 n\nThese programs are free and open to the public. For more information\, 
 please call the Visitor Center: (518) 829-7516\, email SchoharieCrossing@p
 arks.ny.gov or find Schoharie Crossing on Facebook.\n\nThe New York State
  Office of Parks\, Recreation and Historic Preservation oversees more than
  250 parks\, historic sites\, recreational trails\, golf courses\, boat la
 unches and more\, which saw a record 88.3 million visits in 2024. For more
  information on any of these recreation areas\, visit parks.ny.gov\, down
 load the free NY State Parks Explorer app or call (518) 474-0456. Connec
 t with us on Facebook\, Instagram\, Twitter\, and the OPRHP Blog.
ATTACH;FMTTYPE=image/jpeg:https://mohawkvalley.today/new/wp-content/upload
 s/2025/10/IMG_9182.jpeg
CATEGORIES:Fort Hunter,Montgomery County
LOCATION:Ender’s House\, 129 Schoharie Street\, Fort Hunter\, New York\, 
 12069\, United States
X-APPLE-STRUCTURED-LOCATION;VALUE=URI;X-ADDRESS=129 Schoharie Street\, Fort
  Hunter\, New York\, 12069\, United States;X-APPLE-RADIUS=100;X-TITLE=Ende
 r’s House:geo:0,0
END:VEVENT
BEGIN:VTIMEZONE
TZID:America/New_York
X-LIC-LOCATION:America/New_York
BEGIN:DAYLIGHT
DTSTART:20250309T030000
TZOFFSETFROM:-0500
TZOFFSETTO:-0400
TZNAME:EDT
END:DAYLIGHT
END:VTIMEZONE
END:VCALENDAR