BEGIN:VCALENDAR
VERSION:2.0
PRODID:-//wp-events-plugin.com//7.2.3.1//EN
TZID:America/New_York
X-WR-TIMEZONE:America/New_York
BEGIN:VEVENT
UID:2396@mohawkvalley.today
DTSTART;TZID=America/New_York:20260218T130000
DTEND;TZID=America/New_York:20260218T150000
DTSTAMP:20260212T131923Z
URL:https://mohawkvalley.today/events/yager-museum-offers-free-world-of-wa
 ter-program-2026-02-16-2026-02-17-2026-02-18/
SUMMARY:Yager Museum Offers Free "World of Water" Program
DESCRIPTION:The Yager Museum of Art & Culture at Hartwick College will host
  "World of Water\," a series of activities for families and children durin
 g Oneonta schools' February break.
ATTACH;FMTTYPE=image/jpeg:https://mohawkvalley.today/new/wp-content/upload
 s/2025/11/IMG_0039.jpeg
CATEGORIES:Oneonta NY,Otsego County
LOCATION:Yager Museum of Art and Culture\, 1 Hartwick Dr\, Oneonta\, New Yo
 rk\, 13820-4000\, United States
X-APPLE-STRUCTURED-LOCATION;VALUE=URI;X-ADDRESS=1 Hartwick Dr\, Oneonta\, N
 ew York\, 13820-4000\, United States;X-APPLE-RADIUS=100;X-TITLE=Yager Muse
 um of Art and Culture:geo:0,0
END:VEVENT
BEGIN:VTIMEZONE
TZID:America/New_York
X-LIC-LOCATION:America/New_York
BEGIN:STANDARD
DTSTART:20251102T010000
TZOFFSETFROM:-0400
TZOFFSETTO:-0500
TZNAME:EST
END:STANDARD
END:VTIMEZONE
END:VCALENDAR