BEGIN:VCALENDAR
VERSION:2.0
PRODID:-//wp-events-plugin.com//7.2.3.1//EN
TZID:America/New_York
X-WR-TIMEZONE:America/New_York
BEGIN:VEVENT
UID:2833@mohawkvalley.today
DTSTART;TZID=America/New_York:20260402T073000
DTEND;TZID=America/New_York:20260402T073000
DTSTAMP:20260401T133341Z
URL:https://mohawkvalley.today/events/young-farmers-and-ranchers-program/
SUMMARY:Young Farmers and Ranchers Program
DESCRIPTION:Young Farmers and Ranchers Program on Thursday\, April 2\, 7:30
  pm\, at Marble Hill Inn Topic is Diversification in Agriculture. RSVP.
ATTACH;FMTTYPE=image/jpeg:https://mohawkvalley.today/new/wp-content/upload
 s/2026/04/Square-image-for-MVT-and-MVM.jpeg
CATEGORIES:Oneida,Oneida County
LOCATION:Marble Hill Inn\, 4482 Marble Hill Rd\, Oneida\, New York\, 13421\
 , United States
X-APPLE-STRUCTURED-LOCATION;VALUE=URI;X-ADDRESS=4482 Marble Hill Rd\, Oneid
 a\, New York\, 13421\, United States;X-APPLE-RADIUS=100;X-TITLE=Marble Hil
 l Inn:geo:0,0
END:VEVENT
BEGIN:VTIMEZONE
TZID:America/New_York
X-LIC-LOCATION:America/New_York
BEGIN:DAYLIGHT
DTSTART:20260308T030000
TZOFFSETFROM:-0500
TZOFFSETTO:-0400
TZNAME:EDT
END:DAYLIGHT
END:VTIMEZONE
END:VCALENDAR